BEGIN:VCALENDAR
VERSION:2.0
PRODID:-//Écurie du Val - ECPv6.15.20//NONSGML v1.0//EN
CALSCALE:GREGORIAN
METHOD:PUBLISH
X-ORIGINAL-URL:https://ecurieduval.fr
X-WR-CALDESC:Évènements pour Écurie du Val
REFRESH-INTERVAL;VALUE=DURATION:PT1H
X-Robots-Tag:noindex
X-PUBLISHED-TTL:PT1H
BEGIN:VTIMEZONE
TZID:Europe/Paris
BEGIN:DAYLIGHT
TZOFFSETFROM:+0100
TZOFFSETTO:+0200
TZNAME:CEST
DTSTART:20230326T010000
END:DAYLIGHT
BEGIN:STANDARD
TZOFFSETFROM:+0200
TZOFFSETTO:+0100
TZNAME:CET
DTSTART:20231029T010000
END:STANDARD
BEGIN:DAYLIGHT
TZOFFSETFROM:+0100
TZOFFSETTO:+0200
TZNAME:CEST
DTSTART:20240331T010000
END:DAYLIGHT
BEGIN:STANDARD
TZOFFSETFROM:+0200
TZOFFSETTO:+0100
TZNAME:CET
DTSTART:20241027T010000
END:STANDARD
BEGIN:DAYLIGHT
TZOFFSETFROM:+0100
TZOFFSETTO:+0200
TZNAME:CEST
DTSTART:20250330T010000
END:DAYLIGHT
BEGIN:STANDARD
TZOFFSETFROM:+0200
TZOFFSETTO:+0100
TZNAME:CET
DTSTART:20251026T010000
END:STANDARD
BEGIN:DAYLIGHT
TZOFFSETFROM:+0100
TZOFFSETTO:+0200
TZNAME:CEST
DTSTART:20260329T010000
END:DAYLIGHT
BEGIN:STANDARD
TZOFFSETFROM:+0200
TZOFFSETTO:+0100
TZNAME:CET
DTSTART:20261025T010000
END:STANDARD
END:VTIMEZONE
BEGIN:VEVENT
DTSTART;VALUE=DATE:20241013
DTEND;VALUE=DATE:20250310
DTSTAMP:20260420T133508
CREATED:20240604T201011Z
LAST-MODIFIED:20240612T153339Z
UID:2476-1728777600-1741564799@ecurieduval.fr
SUMMARY:Challenge "A Tous Crins" 2024-2025 - Concours Pour Tous
DESCRIPTION:Equifun :\n\nNiveau débutants\nNiveau moyens\nNiveau Forts\n\n  \nCSO :\n\nClub 4\nClub 3\nClub 2\nClub 1\n\n  \n6 dimanches (Horaires à définir) :\n\nLe 13 octobre 2024 – Thème Halloween\nLe 17 novembre 2024\nLe 8 décembre – Thème Noël\nLe 19 janvier 2025\nLe 2 février 2025\nLe 9 mars – FINALE et Remise des prix\n\n  \nTarif pour les 6 concours Equifun : 70 €\nTarif pour les 6 concours CSO : 70 €\nTarif pour un parcours individuel : 25 €\n  \nBuvette sur place.
URL:https://ecurieduval.fr/event/challenge-a-tous-crins-2024-2025-concours-pour-tous/
LOCATION:Écurie du Val\, 247 Chemin de la Mare aux Sangsues\, Hautot Sur Mer\, 76550\, France
CATEGORIES:Concours
ATTACH;FMTTYPE=image/jpeg:https://ecurieduval.fr/wp-content/uploads/2024/06/1718022632256.jpg
END:VEVENT
BEGIN:VEVENT
DTSTART;VALUE=DATE:20241021
DTEND;VALUE=DATE:20241102
DTSTAMP:20260420T133508
CREATED:20240609T113343Z
LAST-MODIFIED:20240609T210846Z
UID:2610-1729468800-1730505599@ecurieduval.fr
SUMMARY:Passage des Examens Fédéraux ou Préparation à leurs passages
DESCRIPTION:Passage des Examens Fédéraux ou Préparation à leurs passages – du lundi au vendredi\nDe 9 h 30 à 12 h 00 : Niveau 3 – 4 – 5 \nDe 13 h 30 à 16 h 00 : Niveau 1 – 2 et Bronze\, Or\, Argent \nSemaine du 21 octobre 2024 \nSemaine du 28 octobre 2024 \nTarif : 140 € avec Licence Obligatoire
URL:https://ecurieduval.fr/event/passage-des-examens-federaux-ou-preparation-a-leurs-passages/
LOCATION:Écurie du Val\, 247 Chemin de la Mare aux Sangsues\, Hautot Sur Mer\, 76550\, France
ATTACH;FMTTYPE=image/jpeg:https://ecurieduval.fr/wp-content/uploads/2024/06/557463012938239257.jpg
END:VEVENT
END:VCALENDAR